BEGIN:VCALENDAR
VERSION:2.0
PRODID:SchoolNow
CALSCALE:GREGORIAN
BEGIN:VEVENT
UID:2a4d65a0-3d84-11f1-b344-0e7d9cbcead3
DTSTAMP:20260421T131527Z
SUMMARY:Early Release NO School
URL;VALUE=URI:https://www.sau61.org/calendar/9009096/early-release-no-schoo
 l
DTSTART:20260422T114500Z
DTEND:20260422T164500Z
END:VEVENT
END:VCALENDAR
