BEGIN:VCALENDAR
VERSION:2.0
PRODID:SchoolNow
CALSCALE:GREGORIAN
BEGIN:VEVENT
UID:e7189356-3d95-11f1-a2cb-029205b270e1
DTSTAMP:20260421T152226Z
SUMMARY:Kamp Chaos Performance at HWMS
URL;VALUE=URI:https://www.sau61.org/calendar/9009591/kamp-chaos-performance
 -at-hwms
DTSTART:20260605T220000Z
DTEND:20260605T230000Z
END:VEVENT
END:VCALENDAR
