BEGIN:VCALENDAR
VERSION:2.0
PRODID:SchoolNow
CALSCALE:GREGORIAN
BEGIN:VEVENT
UID:088520ea-3d96-11f1-afe8-0affda22389f
DTSTAMP:20260421T152322Z
SUMMARY:HWMS Art Show and Spring Concert
URL;VALUE=URI:https://www.sau61.org/calendar/9009592/hwms-art-show-and-spri
 ng-concert
DTSTART:20260520T213000Z
DTEND:20260520T230000Z
END:VEVENT
END:VCALENDAR
