BEGIN:VCALENDAR
VERSION:2.0
PRODID:SchoolNow
CALSCALE:GREGORIAN
BEGIN:VEVENT
UID:55ddab5e-3d97-11f1-8b11-0a58a9feac02
DTSTAMP:20260421T153241Z
SUMMARY:HWMS Gr 7 Ropes Course @ ALNOBA
URL;VALUE=URI:https://www.sau61.org/calendar/9009599/hwms-gr-7-ropes-course
 -alnoba
DTSTART:20260601T120000Z
DTEND:20260601T180000Z
END:VEVENT
END:VCALENDAR
