BEGIN:VCALENDAR
VERSION:2.0
PRODID:SchoolNow
CALSCALE:GREGORIAN
BEGIN:VEVENT
UID:798fc2b2-3d97-11f1-8182-0a58a9feac02
DTSTAMP:20260421T153341Z
SUMMARY:HWMS Gr 8 Rope Course @ ALNOBA
URL;VALUE=URI:https://www.sau61.org/calendar/9009600/hwms-gr-8-rope-course-
 alnoba
DTSTART:20260521T120000Z
DTEND:20260521T180000Z
END:VEVENT
END:VCALENDAR
