BEGIN:VCALENDAR
VERSION:2.0
PRODID:SchoolNow
CALSCALE:GREGORIAN
BEGIN:VEVENT
UID:a051835e-3d97-11f1-9821-0ef52274c7f3
DTSTAMP:20260421T153446Z
SUMMARY:HWMS Grades 5 & ^ STEAM Day at the Fisher Cats
URL;VALUE=URI:https://www.sau61.org/calendar/9009601/hwms-grades-5-steam-da
 y-at-the-fisher-cats
DTSTART:20260513T120000Z
DTEND:20260513T180000Z
END:VEVENT
END:VCALENDAR
